


BEGIN:VCALENDAR
VERSION:2.0
PRODID:-//Executive Masters in Business Administration - ECPv6.2.0.1//NONSGML v1.0//EN
CALSCALE:GREGORIAN
METHOD:PUBLISH
X-WR-CALNAME:Executive Masters in Business Administration
X-ORIGINAL-URL:https://doms.iitm.ac.in/emba
X-WR-CALDESC:Events for Executive Masters in Business Administration
REFRESH-INTERVAL;VALUE=DURATION:PT1H
X-Robots-Tag:noindex
X-PUBLISHED-TTL:PT1H
BEGIN:VTIMEZONE
TZID:UTC
BEGIN:STANDARD
TZOFFSETFROM:+0000
TZOFFSETTO:+0000
TZNAME:UTC
DTSTART:20220101T000000
END:STANDARD
END:VTIMEZONE
BEGIN:VEVENT
DTSTART;TZID=UTC:20240427T170000
DTEND;TZID=UTC:20240427T180000
DTSTAMP:20260425T050916
CREATED:20240509T053614Z
LAST-MODIFIED:20240807T083144Z
UID:864-1714237200-1714240800@doms.iitm.ac.in
SUMMARY:EMBA Alumni Lecture Series
DESCRIPTION:  \n \n  \nAlumni are torchbearers of an institute. DoMS EMBA students initiated the Alumni Lecture Series on April 27\, 2024. Mr. Vivek Dhayalan\, Founder of Tech Conative and an alumnus from the 2021 batch of EMBA\, shared his success story titled “From Classroom to Boardroom Success.” Vivek spoke on how the EMBA program helped his transition from being an employee to an entrepreneur. This event provided the current batch of EMBA students with a valuable opportunity to connect with their alumni. \n 
URL:https://doms.iitm.ac.in/emba/event/emba-alumni-lecture-series/
ATTACH;FMTTYPE=image/jpeg:https://doms.iitm.ac.in/emba/wp-content/uploads/2024/05/WhatsApp-Image-2024-05-01-at-10.32.05-AM-1-1.jpeg
END:VEVENT
BEGIN:VEVENT
DTSTART;TZID=UTC:20231125T080000
DTEND;TZID=UTC:20231125T170000
DTSTAMP:20260425T050916
CREATED:20231121T090024Z
LAST-MODIFIED:20240722T001620Z
UID:841-1700899200-1700931600@doms.iitm.ac.in
SUMMARY:EMBARK' 2023
DESCRIPTION:EMBARK’23 PIC & Videos
URL:https://doms.iitm.ac.in/emba/event/embark-2023/
END:VEVENT
BEGIN:VEVENT
DTSTART;TZID=UTC:20231014T190000
DTEND;TZID=UTC:20231014T200000
DTSTAMP:20260425T050916
CREATED:20231011T063054Z
LAST-MODIFIED:20231011T063054Z
UID:836-1697310000-1697313600@doms.iitm.ac.in
SUMMARY:EMBA Online Information Session
DESCRIPTION:Click here to join the session
URL:https://doms.iitm.ac.in/emba/event/emba-online-information-session/
END:VEVENT
BEGIN:VEVENT
DTSTART;TZID=UTC:20231007T153000
DTEND;TZID=UTC:20231007T163000
DTSTAMP:20260425T050916
CREATED:20230915T041411Z
LAST-MODIFIED:20230915T043217Z
UID:814-1696692600-1696696200@doms.iitm.ac.in
SUMMARY:EMBA Offline Information Session at Department of Management Studies\, IITM Chennai
DESCRIPTION:Click here to register
URL:https://doms.iitm.ac.in/emba/event/emba-registration-at-doms/
LOCATION:DOMS IITM\, IITM\, Chennai\, 600036\, India
END:VEVENT
BEGIN:VEVENT
DTSTART;TZID=UTC:20230923T070000
DTEND;TZID=UTC:20230923T200000
DTSTAMP:20260425T050916
CREATED:20230913T005518Z
LAST-MODIFIED:20230915T043344Z
UID:796-1695452400-1695499200@doms.iitm.ac.in
SUMMARY:EMBA Online Information Session
DESCRIPTION:Click here to join the session.
URL:https://doms.iitm.ac.in/emba/event/emba-information-session/
LOCATION:Webinar Session
END:VEVENT
BEGIN:VEVENT
DTSTART;TZID=UTC:20230714T190000
DTEND;TZID=UTC:20230714T200000
DTSTAMP:20260425T050916
CREATED:20230901T042505Z
LAST-MODIFIED:20230901T052330Z
UID:630-1689361200-1689364800@doms.iitm.ac.in
SUMMARY:The Train 18/Vande Bharat Story - "An engineering dream to reality" by MR. Sudhanshu Mani\, IRSME (Retd General Manager/CF\, Chennai)
DESCRIPTION:Click Here to view Profile
URL:https://doms.iitm.ac.in/emba/event/the-train-18-vande-bharat-story-an-engineering-dream-to-reality-by-mr-sudhanshu-mani-irsme-retd-general-manager-cf-chennai/
END:VEVENT
BEGIN:VEVENT
DTSTART;TZID=UTC:20220820T130000
DTEND;TZID=UTC:20220820T143000
DTSTAMP:20260425T050916
CREATED:20230901T042655Z
LAST-MODIFIED:20230901T052349Z
UID:632-1661000400-1661005800@doms.iitm.ac.in
SUMMARY:Mr. Krishna Kumar N\, Head of Brand Marketing\, iMocha
DESCRIPTION:Click Here to view Profile
URL:https://doms.iitm.ac.in/emba/event/mr-krishna-kumar-n-head-of-brand-marketing-imocha/
END:VEVENT
BEGIN:VEVENT
DTSTART;TZID=UTC:20220618T123000
DTEND;TZID=UTC:20220618T133000
DTSTAMP:20260425T050916
CREATED:20230901T042829Z
LAST-MODIFIED:20230901T042829Z
UID:634-1655555400-1655559000@doms.iitm.ac.in
SUMMARY:Mr. Karthik R\, Head\, Test Services\, Prodapt
DESCRIPTION:Click Here to view Video\nClick Here to view Profile
URL:https://doms.iitm.ac.in/emba/event/mr-karthik-r-head-test-services-prodapt/
END:VEVENT
END:VCALENDAR