


BEGIN:VCALENDAR
VERSION:2.0
PRODID:-//Executive Masters in Business Administration - ECPv6.2.0.1//NONSGML v1.0//EN
CALSCALE:GREGORIAN
METHOD:PUBLISH
X-ORIGINAL-URL:https://doms.iitm.ac.in/emba
X-WR-CALDESC:Events for Executive Masters in Business Administration
REFRESH-INTERVAL;VALUE=DURATION:PT1H
X-Robots-Tag:noindex
X-PUBLISHED-TTL:PT1H
BEGIN:VTIMEZONE
TZID:UTC
BEGIN:STANDARD
TZOFFSETFROM:+0000
TZOFFSETTO:+0000
TZNAME:UTC
DTSTART:20240101T000000
END:STANDARD
TZID:Asia/Kolkata
BEGIN:STANDARD
TZOFFSETFROM:+0530
TZOFFSETTO:+0530
TZNAME:IST
DTSTART:20240101T000000
END:STANDARD
END:VTIMEZONE
BEGIN:VEVENT
DTSTART;TZID=UTC:20240620T031600
DTEND;TZID=UTC:20240620T031600
DTSTAMP:20260425T032855
CREATED:20240619T221710Z
LAST-MODIFIED:20240807T083112Z
UID:930-1718853360-1718853360@doms.iitm.ac.in
SUMMARY:EMBA  students Industrial visit
DESCRIPTION:IITM DoMS EMBA students from the 2023 and 2024 batches visited Hero MotoCorp at Sri City in Tada\, Andhra Pradesh. Twenty-six students from both EMBA batches toured the plant. The EMBA team spent a productive time at Hero MotoCorp\, where they had the opportunity to interact with company officials and meet the all-women assembly team responsible for assembling motorcycles. In addition to human workers\, students observed robots in action\, manufacturing engine parts for the bikes. It was a day well spent at the factory\, filled with valuable interactions.
URL:https://doms.iitm.ac.in/emba/event/emba-students-industrial-visit/
END:VEVENT
BEGIN:VEVENT
DTSTART;TZID=UTC:20240706T100000
DTEND;TZID=UTC:20240706T120000
DTSTAMP:20260425T032855
CREATED:20240704T040536Z
LAST-MODIFIED:20240807T083027Z
UID:944-1720260000-1720267200@doms.iitm.ac.in
SUMMARY:EMBA Guest Lecture - Prof. Ashok Jhunjhunwala
DESCRIPTION:“Nurturing Requires Process” – Prof. Ashok Jhunjhunwala \nI will start with a story…” began Prof. Ashok Jhunjhunwala\, (Retd.)\, Department of Electrical Engineering\, IIT Madras and the President of IITM Research Park & IITM Incubation Cell (who just completed his term)\, was the speaker at the EMBA guest lecture series addressing the two batches of EMBA students on July 6\, 2024\, at the Department of Management Studies at IIT Madras. \nProf. Jhunjhunwala’s enthusiasm and wit while delivering his talk to the EMBA students set a positive tone in the room. He has played a pivotal role in encouraging students not only from IITM but also from other institutes. His motto – “to nurture young minds and guide them towards their start-up venture”. \n“To bounce back after failure” and “focus” are key ingredients for a start-up\, he continued. \nThis session provided deep insights into the perseverance and adaptability needed for startups\, and how failures can pave the way for success
URL:https://doms.iitm.ac.in/emba/event/emba-guest-lecture-prof-ashok-jhunjhunwala/
END:VEVENT
BEGIN:VEVENT
DTSTART;TZID=Asia/Kolkata:20240824T000000
DTEND;TZID=Asia/Kolkata:20240824T000000
DTSTAMP:20260425T032855
CREATED:20240801T115018Z
LAST-MODIFIED:20240905T113024Z
UID:1220-1724457600-1724457600@doms.iitm.ac.in
SUMMARY:EMBARK 24
DESCRIPTION:The Department of Management Studies (DoMS) at IIT Madras organized the 7th edition of their annual festival\, EMBARK 24 on August 24 at the ICSR Auditorium.\nThe event started off with the welcome address from Dr. Raghunathan Rengaswamy\, Dean of the Office for Global Engagement; Prof. M. Thenmozhi\, Head of the Department of Management Studies; Dr. S. Srinivasan\, EMBA Program Coordinator; and Prof. T.J. Kamalanabhan\, Professor in the Department of Management Studies.\nThe keynote address was delivered by Mr. Vignesh Kumar\, a veteran with 18 years of experience in SaaS\, PaaS\, and IaaS. Following the keynote\, several events took place\, including Vison to Venture\, Case Masters\, and Ad-Mastery. EMBARK attracted participants from various EMBA programs and industry professionals.\nThe event highlighted a diverse panel discussion featuring experts from healthcare\, automotive\, aviation\, supply chain management\, and insurance technology. The discussion focused on the intersection of humans\, machines\, and management in navigating the AI revolution.\nThe event concluded with an insightful address given by Dr. Sumanth C Raman\, founder of Algorithm Health Ltd. He also addressed challenges in AI adoption\, government policy issues\, speeding up drug discovery\, and advancing personalized medicine.\nEMBARK 24 brought together participants from various colleges offering Executive MBA program. \n 
URL:https://doms.iitm.ac.in/emba/event/embark-2024/
END:VEVENT
BEGIN:VEVENT
DTSTART;TZID=Asia/Kolkata:20241223T080000
DTEND;TZID=Asia/Kolkata:20241223T170000
DTSTAMP:20260425T032855
CREATED:20241223T100227Z
LAST-MODIFIED:20241223T100227Z
UID:1662-1734940800-1734973200@doms.iitm.ac.in
SUMMARY:Oreientataion Program 2025
DESCRIPTION:We thank the HoD\, Prof. M. Thenmozhi for her continued support. \nThe event began with the EMBA mentors Prof. V. Vijayalakshmi and Prof. S. Srinivasan welcoming the batch and detailing what the two-year journey would entail.\nProf. G. Srinivasan welcomed them to the program as well\, post which  the Dean  (Academic Courses)\, Prof. Prathap Haridoss\, delivered the  Institute Address. Prof. Thillai Rajan A\, Hod-in-charge shared 3 keystone habits that would help students navigate the crucial next two years of their life most joyfully and effectively.\n\n\nThe Keynote Speech was from Mr. Ravi Santhanam\, a leadership coach and former Managing Director & CEO of Hindustan Motors & Mahindra Holidays. Mr. Santhanam’s talk on wisdom from leading a large corporation for over 40 years captivated the students.\nThis was followed by the much awaited panel discussion featuring EMBA alumni Mr. Srinivasan\, Ms. Vishali\, and Mr. Guru Prasanna. They shared their experiences and how the program has helped them shape their life and career..\nMr. Srinivasan spoke about how the EMBA program supported him professionally and how effectively classes were conducted during the pandemic. Mr. Guru Prasanna\, the topper of his batch\, shared his perspective on how consistent learning is\, as a key to achieving success\, emphasizing that networking has been one of the greatest benefits in the journey. Ms. Vishali discussed how application-oriented learning had helped her gain a deep understanding of the subjects. The panel discussion turned into an interactive session\, with the new students eagerly asking questions and the alumni providing thoughtful answers.\n\nThe EMBA team organized an icebreaker\, enabling students to interact and connect with each other. This session brought a fresh and lively atmosphere to the orientation\, and the students enjoyed it.
URL:https://doms.iitm.ac.in/emba/event/oreientataion-program-2025/
END:VEVENT
BEGIN:VEVENT
DTSTART;TZID=Asia/Kolkata:20250303T080000
DTEND;TZID=Asia/Kolkata:20250303T170000
DTSTAMP:20260425T032855
CREATED:20250303T103635Z
LAST-MODIFIED:20250304T022415Z
UID:1687-1740988800-1741021200@doms.iitm.ac.in
SUMMARY:EMBRACE 2024 Bids a Heartwarming Farewell to their Seniors
DESCRIPTION:The EMBA 2024 batch students organized a heartfelt farewell for their senior batch\, EMBA 2023\, during the annual family fest\, EMBRACE. The celebration was filled with joy\, warmth\, and camaraderie as the EMBA 2023 students celebrated their successful completion of the program with their loved ones who had a significant role to play in this as well. The new batch of EMBA 2025\, also joined the event\, making it even more special. \nThe evening featured a lively and interactive session hosted by the EMBA 2024 students\, creating a fun-filled atmosphere that brought people together\, leaving everyone with cherished memories.
URL:https://doms.iitm.ac.in/emba/event/emba-2024-bids-a-heartwarming-farewell-to-their-seniors/
END:VEVENT
BEGIN:VEVENT
DTSTART;TZID=Asia/Kolkata:20250304T080000
DTEND;TZID=Asia/Kolkata:20250304T170000
DTSTAMP:20260425T032855
CREATED:20250304T023130Z
LAST-MODIFIED:20250313T105849Z
UID:1694-1741075200-1741107600@doms.iitm.ac.in
SUMMARY:EMBA Guest Lecture Series was on 23 Feb\, 2025 by Ms. Sangeetha Shankaran Sumesh
DESCRIPTION:The first talk of 2025 in the EMBA Guest Lecture Series was on 23 Feb\, 2025 by Ms. Sangeetha Shankaran Sumesh\, a Chief Financial Officer turned Business & Leadership Coach. \nSangeeta spoke on how to “get high” in life by being a high performer. Her talk provided a practical\, real-life framework on how to set and follow through with goals. She is also a successful author of multiple books\, including Get High\, Where’s the Moolah\, and What the Finance. 
URL:https://doms.iitm.ac.in/emba/event/emba-guest-lecture-series-was-on-23-feb-2025-by-ms-sangeetha-shankaran-suresh/
END:VEVENT
END:VCALENDAR